BEGIN:VCALENDAR
VERSION:2.0
PRODID:-//SMA Mosque - ECPv6.15.11//NONSGML v1.0//EN
CALSCALE:GREGORIAN
METHOD:PUBLISH
X-WR-CALNAME:SMA Mosque
X-ORIGINAL-URL:https://smamosque.org
X-WR-CALDESC:Events for SMA Mosque
REFRESH-INTERVAL;VALUE=DURATION:PT1H
X-Robots-Tag:noindex
X-PUBLISHED-TTL:PT1H
BEGIN:VTIMEZONE
TZID:UTC
BEGIN:STANDARD
TZOFFSETFROM:+0000
TZOFFSETTO:+0000
TZNAME:UTC
DTSTART:20250101T000000
END:STANDARD
END:VTIMEZONE
BEGIN:VEVENT
DTSTART;TZID=UTC:20260401T171500
DTEND;TZID=UTC:20260401T181500
DTSTAMP:20260421T190039
CREATED:20260330T213553Z
LAST-MODIFIED:20260330T221423Z
UID:7305-1775063700-1775067300@smamosque.org
SUMMARY:SMA Juniors! weekly sessions
DESCRIPTION:
URL:https://smamosque.org/event/sma-youth-jr-weekly-sessions/2026-04-01/
LOCATION:Sammamish Masjid\, 22011 SE 20th St\, Sammamish\, Washington\, United States
ORGANIZER;CN="Sammamish Muslims Association":MAILTO:secretary@sammamishmosque.com
END:VEVENT
BEGIN:VEVENT
DTSTART;TZID=UTC:20260402T170000
DTEND;TZID=UTC:20260402T183000
DTSTAMP:20260421T190039
CREATED:20260312T212618Z
LAST-MODIFIED:20260312T212618Z
UID:7089-1775149200-1775154600@smamosque.org
SUMMARY:Al Hidaya Quran Classes
DESCRIPTION:
URL:https://smamosque.org/event/al-hidaya-quran-classes/2026-04-02/
LOCATION:Sammamish Mosque\, 22011 SE 20th St\, Sammamish\, Washington\, 98075\, United States
END:VEVENT
BEGIN:VEVENT
DTSTART;TZID=UTC:20260403T173000
DTEND;TZID=UTC:20260403T183000
DTSTAMP:20260421T190039
CREATED:20260330T212956Z
LAST-MODIFIED:20260330T223022Z
UID:7274-1775237400-1775241000@smamosque.org
SUMMARY:Weekly Girls Tafseer Sessions
DESCRIPTION:
URL:https://smamosque.org/event/girls-tafsir-sessions/2026-04-03/
LOCATION:Sammamish Mosque\, 22011 SE 20th St\, Sammamish\, Washington\, 98075\, United States
ORGANIZER;CN="Sammamish Muslims Association":MAILTO:secretary@sammamishmosque.com
END:VEVENT
BEGIN:VEVENT
DTSTART;TZID=UTC:20260403T180000
DTEND;TZID=UTC:20260403T190000
DTSTAMP:20260421T190039
CREATED:20260330T220019Z
LAST-MODIFIED:20260330T220021Z
UID:7341-1775239200-1775242800@smamosque.org
SUMMARY:
DESCRIPTION:
URL:https://smamosque.org/event/7341/2026-04-03/
LOCATION:Sammamish Masjid\, 22011 SE 20th St\, Sammamish\, Washington\, United States
ORGANIZER;CN="Sammamish Muslims Association":MAILTO:secretary@sammamishmosque.com
END:VEVENT
BEGIN:VEVENT
DTSTART;TZID=UTC:20260403T180000
DTEND;TZID=UTC:20260403T190000
DTSTAMP:20260421T190039
CREATED:20260330T222600Z
LAST-MODIFIED:20260330T222650Z
UID:7368-1775239200-1775242800@smamosque.org
SUMMARY:SYG Middle School Program
DESCRIPTION:
URL:https://smamosque.org/event/syg-middle-school-program/2026-04-03/
LOCATION:Washington
END:VEVENT
BEGIN:VEVENT
DTSTART;TZID=UTC:20260403T190000
DTEND;TZID=UTC:20260403T210000
DTSTAMP:20260421T190039
CREATED:20260403T200650Z
LAST-MODIFIED:20260403T200652Z
UID:7421-1775242800-1775250000@smamosque.org
SUMMARY:SYG Jubilee-style “Hot Takes” discussionDiscussion
DESCRIPTION:SYG is kicking things off TONIGHT with a Jubilee-style “Hot Takes” discussion. It’s an interactive\, moderated debate where kids can step in\, share their perspectives\, and learn how to express their thoughts respectfully while hearing different viewpoints. It’s a great way to build confidence\, communication skills\, and real conversations in a comfortable space. Would love to see everyone there inshAllah!
URL:https://smamosque.org/event/syg-jubilee-style-hot-takes-discussiondiscussion/
LOCATION:Sammamish Masjid\, 22011 SE 20th St\, Sammamish\, Washington\, United States
END:VEVENT
BEGIN:VEVENT
DTSTART;TZID=UTC:20260407T170000
DTEND;TZID=UTC:20260407T183000
DTSTAMP:20260421T190039
CREATED:20260312T212620Z
LAST-MODIFIED:20260312T212620Z
UID:7102-1775581200-1775586600@smamosque.org
SUMMARY:Al Hidaya Quran Classes
DESCRIPTION:
URL:https://smamosque.org/event/al-hidaya-quran-classes/2026-04-07/
LOCATION:Sammamish Mosque\, 22011 SE 20th St\, Sammamish\, Washington\, 98075\, United States
END:VEVENT
BEGIN:VEVENT
DTSTART;TZID=UTC:20260408T171500
DTEND;TZID=UTC:20260408T181500
DTSTAMP:20260421T190039
CREATED:20260330T213553Z
LAST-MODIFIED:20260330T221425Z
UID:7308-1775668500-1775672100@smamosque.org
SUMMARY:SMA Juniors! weekly sessions
DESCRIPTION:
URL:https://smamosque.org/event/sma-youth-jr-weekly-sessions/2026-04-08/
LOCATION:Sammamish Masjid\, 22011 SE 20th St\, Sammamish\, Washington\, United States
ORGANIZER;CN="Sammamish Muslims Association":MAILTO:secretary@sammamishmosque.com
END:VEVENT
BEGIN:VEVENT
DTSTART;TZID=UTC:20260409T170000
DTEND;TZID=UTC:20260409T183000
DTSTAMP:20260421T190039
CREATED:20260312T212621Z
LAST-MODIFIED:20260312T212621Z
UID:7103-1775754000-1775759400@smamosque.org
SUMMARY:Al Hidaya Quran Classes
DESCRIPTION:
URL:https://smamosque.org/event/al-hidaya-quran-classes/2026-04-09/
LOCATION:Sammamish Mosque\, 22011 SE 20th St\, Sammamish\, Washington\, 98075\, United States
END:VEVENT
BEGIN:VEVENT
DTSTART;TZID=UTC:20260410T173000
DTEND;TZID=UTC:20260410T183000
DTSTAMP:20260421T190039
CREATED:20260330T212956Z
LAST-MODIFIED:20260330T223027Z
UID:7277-1775842200-1775845800@smamosque.org
SUMMARY:Weekly Girls Tafseer Sessions
DESCRIPTION:
URL:https://smamosque.org/event/girls-tafsir-sessions/2026-04-10/
LOCATION:Sammamish Mosque\, 22011 SE 20th St\, Sammamish\, Washington\, 98075\, United States
ORGANIZER;CN="Sammamish Muslims Association":MAILTO:secretary@sammamishmosque.com
END:VEVENT
BEGIN:VEVENT
DTSTART;TZID=UTC:20260410T180000
DTEND;TZID=UTC:20260410T190000
DTSTAMP:20260421T190039
CREATED:20260330T220019Z
LAST-MODIFIED:20260330T220019Z
UID:7344-1775844000-1775847600@smamosque.org
SUMMARY:
DESCRIPTION:
URL:https://smamosque.org/event/7341/2026-04-10/
LOCATION:Sammamish Masjid\, 22011 SE 20th St\, Sammamish\, Washington\, United States
ORGANIZER;CN="Sammamish Muslims Association":MAILTO:secretary@sammamishmosque.com
END:VEVENT
BEGIN:VEVENT
DTSTART;TZID=UTC:20260410T180000
DTEND;TZID=UTC:20260410T190000
DTSTAMP:20260421T190039
CREATED:20260330T222600Z
LAST-MODIFIED:20260330T222652Z
UID:7370-1775844000-1775847600@smamosque.org
SUMMARY:SYG Middle School Program
DESCRIPTION:
URL:https://smamosque.org/event/syg-middle-school-program/2026-04-10/
LOCATION:Washington
END:VEVENT
BEGIN:VEVENT
DTSTART;TZID=UTC:20260414T170000
DTEND;TZID=UTC:20260414T183000
DTSTAMP:20260421T190039
CREATED:20260312T212622Z
LAST-MODIFIED:20260312T212622Z
UID:7104-1776186000-1776191400@smamosque.org
SUMMARY:Al Hidaya Quran Classes
DESCRIPTION:
URL:https://smamosque.org/event/al-hidaya-quran-classes/2026-04-14/
LOCATION:Sammamish Mosque\, 22011 SE 20th St\, Sammamish\, Washington\, 98075\, United States
END:VEVENT
BEGIN:VEVENT
DTSTART;TZID=UTC:20260416T170000
DTEND;TZID=UTC:20260416T183000
DTSTAMP:20260421T190039
CREATED:20260312T212623Z
LAST-MODIFIED:20260312T212623Z
UID:7105-1776358800-1776364200@smamosque.org
SUMMARY:Al Hidaya Quran Classes
DESCRIPTION:
URL:https://smamosque.org/event/al-hidaya-quran-classes/2026-04-16/
LOCATION:Sammamish Mosque\, 22011 SE 20th St\, Sammamish\, Washington\, 98075\, United States
END:VEVENT
BEGIN:VEVENT
DTSTART;TZID=UTC:20260417T180000
DTEND;TZID=UTC:20260417T190000
DTSTAMP:20260421T190039
CREATED:20260330T220019Z
LAST-MODIFIED:20260330T220019Z
UID:7345-1776448800-1776452400@smamosque.org
SUMMARY:
DESCRIPTION:
URL:https://smamosque.org/event/7341/2026-04-17/
LOCATION:Sammamish Masjid\, 22011 SE 20th St\, Sammamish\, Washington\, United States
ORGANIZER;CN="Sammamish Muslims Association":MAILTO:secretary@sammamishmosque.com
END:VEVENT
BEGIN:VEVENT
DTSTART;TZID=UTC:20260421T170000
DTEND;TZID=UTC:20260421T183000
DTSTAMP:20260421T190039
CREATED:20260312T212625Z
LAST-MODIFIED:20260312T212625Z
UID:7106-1776790800-1776796200@smamosque.org
SUMMARY:Al Hidaya Quran Classes
DESCRIPTION:
URL:https://smamosque.org/event/al-hidaya-quran-classes/2026-04-21/
LOCATION:Sammamish Mosque\, 22011 SE 20th St\, Sammamish\, Washington\, 98075\, United States
END:VEVENT
BEGIN:VEVENT
DTSTART;TZID=UTC:20260422T171500
DTEND;TZID=UTC:20260422T181500
DTSTAMP:20260421T190039
CREATED:20260330T213553Z
LAST-MODIFIED:20260330T221426Z
UID:7310-1776878100-1776881700@smamosque.org
SUMMARY:SMA Juniors! weekly sessions
DESCRIPTION:
URL:https://smamosque.org/event/sma-youth-jr-weekly-sessions/2026-04-22/
LOCATION:Sammamish Masjid\, 22011 SE 20th St\, Sammamish\, Washington\, United States
ORGANIZER;CN="Sammamish Muslims Association":MAILTO:secretary@sammamishmosque.com
END:VEVENT
BEGIN:VEVENT
DTSTART;TZID=UTC:20260423T170000
DTEND;TZID=UTC:20260423T183000
DTSTAMP:20260421T190039
CREATED:20260312T212626Z
LAST-MODIFIED:20260312T212626Z
UID:7107-1776963600-1776969000@smamosque.org
SUMMARY:Al Hidaya Quran Classes
DESCRIPTION:
URL:https://smamosque.org/event/al-hidaya-quran-classes/2026-04-23/
LOCATION:Sammamish Mosque\, 22011 SE 20th St\, Sammamish\, Washington\, 98075\, United States
END:VEVENT
BEGIN:VEVENT
DTSTART;TZID=UTC:20260424T173000
DTEND;TZID=UTC:20260424T183000
DTSTAMP:20260421T190039
CREATED:20260330T212956Z
LAST-MODIFIED:20260330T223028Z
UID:7279-1777051800-1777055400@smamosque.org
SUMMARY:Weekly Girls Tafseer Sessions
DESCRIPTION:
URL:https://smamosque.org/event/girls-tafsir-sessions/2026-04-24/
LOCATION:Sammamish Mosque\, 22011 SE 20th St\, Sammamish\, Washington\, 98075\, United States
ORGANIZER;CN="Sammamish Muslims Association":MAILTO:secretary@sammamishmosque.com
END:VEVENT
BEGIN:VEVENT
DTSTART;TZID=UTC:20260424T180000
DTEND;TZID=UTC:20260424T190000
DTSTAMP:20260421T190039
CREATED:20260330T220019Z
LAST-MODIFIED:20260330T220019Z
UID:7346-1777053600-1777057200@smamosque.org
SUMMARY:
DESCRIPTION:
URL:https://smamosque.org/event/7341/2026-04-24/
LOCATION:Sammamish Masjid\, 22011 SE 20th St\, Sammamish\, Washington\, United States
ORGANIZER;CN="Sammamish Muslims Association":MAILTO:secretary@sammamishmosque.com
END:VEVENT
BEGIN:VEVENT
DTSTART;TZID=UTC:20260424T180000
DTEND;TZID=UTC:20260424T190000
DTSTAMP:20260421T190039
CREATED:20260330T222600Z
LAST-MODIFIED:20260330T222654Z
UID:7371-1777053600-1777057200@smamosque.org
SUMMARY:SYG Middle School Program
DESCRIPTION:
URL:https://smamosque.org/event/syg-middle-school-program/2026-04-24/
LOCATION:Washington
END:VEVENT
BEGIN:VEVENT
DTSTART;TZID=UTC:20260424T190000
DTEND;TZID=UTC:20260424T210000
DTSTAMP:20260421T190039
CREATED:20260403T201504Z
LAST-MODIFIED:20260420T201651Z
UID:7425-1777057200-1777064400@smamosque.org
SUMMARY:Family Halaqa
DESCRIPTION:We are privileged to host Imam Akram Baiyomi\, who will share reflections on a powerful and relatable topic: “Seerah through a Family Lens.” This session is designed to connect the life of the Prophet ﷺ to our homes\, relationships\, and everyday challenges. \n\n\n\nPlease join with families. This will be an engaging and meaningful gathering for youth\, children\, and adults alike. An evening of learning\, connection\, and community that you won’t want to miss. \n\n\n\nDinner will be served.
URL:https://smamosque.org/event/syg-bring-your-parent-along-day/
LOCATION:Sammamish Masjid\, 22011 SE 20th St\, Sammamish\, Washington\, United States
END:VEVENT
BEGIN:VEVENT
DTSTART;TZID=UTC:20260428T170000
DTEND;TZID=UTC:20260428T183000
DTSTAMP:20260421T190039
CREATED:20260312T212627Z
LAST-MODIFIED:20260312T212627Z
UID:7108-1777395600-1777401000@smamosque.org
SUMMARY:Al Hidaya Quran Classes
DESCRIPTION:
URL:https://smamosque.org/event/al-hidaya-quran-classes/2026-04-28/
LOCATION:Sammamish Mosque\, 22011 SE 20th St\, Sammamish\, Washington\, 98075\, United States
END:VEVENT
BEGIN:VEVENT
DTSTART;TZID=UTC:20260429T171500
DTEND;TZID=UTC:20260429T181500
DTSTAMP:20260421T190039
CREATED:20260330T213553Z
LAST-MODIFIED:20260330T221427Z
UID:7311-1777482900-1777486500@smamosque.org
SUMMARY:SMA Juniors! weekly sessions
DESCRIPTION:
URL:https://smamosque.org/event/sma-youth-jr-weekly-sessions/2026-04-29/
LOCATION:Sammamish Masjid\, 22011 SE 20th St\, Sammamish\, Washington\, United States
ORGANIZER;CN="Sammamish Muslims Association":MAILTO:secretary@sammamishmosque.com
END:VEVENT
BEGIN:VEVENT
DTSTART;TZID=UTC:20260430T170000
DTEND;TZID=UTC:20260430T183000
DTSTAMP:20260421T190039
CREATED:20260312T212628Z
LAST-MODIFIED:20260312T212628Z
UID:7109-1777568400-1777573800@smamosque.org
SUMMARY:Al Hidaya Quran Classes
DESCRIPTION:
URL:https://smamosque.org/event/al-hidaya-quran-classes/2026-04-30/
LOCATION:Sammamish Mosque\, 22011 SE 20th St\, Sammamish\, Washington\, 98075\, United States
END:VEVENT
BEGIN:VEVENT
DTSTART;TZID=UTC:20260501T173000
DTEND;TZID=UTC:20260501T183000
DTSTAMP:20260421T190039
CREATED:20260330T212956Z
LAST-MODIFIED:20260330T223029Z
UID:7280-1777656600-1777660200@smamosque.org
SUMMARY:Weekly Girls Tafseer Sessions
DESCRIPTION:
URL:https://smamosque.org/event/girls-tafsir-sessions/2026-05-01/
LOCATION:Sammamish Mosque\, 22011 SE 20th St\, Sammamish\, Washington\, 98075\, United States
ORGANIZER;CN="Sammamish Muslims Association":MAILTO:secretary@sammamishmosque.com
END:VEVENT
BEGIN:VEVENT
DTSTART;TZID=UTC:20260501T180000
DTEND;TZID=UTC:20260501T190000
DTSTAMP:20260421T190039
CREATED:20260330T220019Z
LAST-MODIFIED:20260330T220019Z
UID:7347-1777658400-1777662000@smamosque.org
SUMMARY:
DESCRIPTION:
URL:https://smamosque.org/event/7341/2026-05-01/
LOCATION:Sammamish Masjid\, 22011 SE 20th St\, Sammamish\, Washington\, United States
ORGANIZER;CN="Sammamish Muslims Association":MAILTO:secretary@sammamishmosque.com
END:VEVENT
BEGIN:VEVENT
DTSTART;TZID=UTC:20260501T180000
DTEND;TZID=UTC:20260501T190000
DTSTAMP:20260421T190039
CREATED:20260330T222600Z
LAST-MODIFIED:20260330T222655Z
UID:7372-1777658400-1777662000@smamosque.org
SUMMARY:SYG Middle School Program
DESCRIPTION:
URL:https://smamosque.org/event/syg-middle-school-program/2026-05-01/
LOCATION:Washington
END:VEVENT
BEGIN:VEVENT
DTSTART;TZID=UTC:20260501T190000
DTEND;TZID=UTC:20260501T213000
DTSTAMP:20260421T190039
CREATED:20260403T201708Z
LAST-MODIFIED:20260403T201822Z
UID:7428-1777662000-1777671000@smamosque.org
SUMMARY:SGY: "We Need To Talk"
DESCRIPTION:
URL:https://smamosque.org/event/sgy-we-need-to-talk/
LOCATION:Washington
END:VEVENT
BEGIN:VEVENT
DTSTART;TZID=UTC:20260505T170000
DTEND;TZID=UTC:20260505T183000
DTSTAMP:20260421T190039
CREATED:20260312T212630Z
LAST-MODIFIED:20260312T212630Z
UID:7110-1778000400-1778005800@smamosque.org
SUMMARY:Al Hidaya Quran Classes
DESCRIPTION:
URL:https://smamosque.org/event/al-hidaya-quran-classes/2026-05-05/
LOCATION:Sammamish Mosque\, 22011 SE 20th St\, Sammamish\, Washington\, 98075\, United States
END:VEVENT
END:VCALENDAR